BEGIN:VCALENDAR
VERSION:2.0
PRODID:-//Goldgrube//myauktion.com//AT
CALSCALE:GREGORIAN
BEGIN:VEVENT
DTSTART:20260508T155000
DTEND:20260508T155030
LOCATION:Gewerbepark 13, 8562 Mooskirchen
DTSTAMP:20260424T160252
SUMMARY:MyAuktion: Ablauf Artikel Nr. 958439 Sidroga Orangenblütentee mit 20 Filterbeutel 2er Set
URL;VALUE=URI:https://www.myauktion.com/versteigerung7668-position2445109-sidroga-orangenbluetentee-mit-20-filterbeutel-2er-set.php
DESCRIPTION:MHD: 05/2026
UID:myauktion-7668-2445109
BEGIN:VALARM
ACTION:DISPLAY
DESCRIPTION:MHD: 05/2026
TRIGGER:-PT10M
END:VALARM
END:VEVENT
END:VCALENDAR