BEGIN:VCALENDAR
VERSION:2.0
PRODID:-//Goldgrube//myauktion.com//AT
CALSCALE:GREGORIAN
BEGIN:VEVENT
DTSTART:20260508T144000
DTEND:20260508T144030
LOCATION:Gewerbepark 13, 8562 Mooskirchen
DTSTAMP:20260424T160245
SUMMARY:MyAuktion: Ablauf Artikel Nr. 958075 Lor Espresso Brazil Kapseln 10Stk 
URL;VALUE=URI:https://www.myauktion.com/versteigerung7668-position2445125-lor-espresso-brazil-kapseln-10stk.php
DESCRIPTION:MHD 05.06.2026 
UID:myauktion-7668-2445125
BEGIN:VALARM
ACTION:DISPLAY
DESCRIPTION:MHD 05.06.2026 
TRIGGER:-PT10M
END:VALARM
END:VEVENT
END:VCALENDAR