BEGIN:VCALENDAR
VERSION:2.0
PRODID:-//Goldgrube//myauktion.com//AT
CALSCALE:GREGORIAN
BEGIN:VEVENT
DTSTART:20260508T144600
DTEND:20260508T144630
LOCATION:Gewerbepark 13, 8562 Mooskirchen
DTSTAMP:20260424T160250
SUMMARY:MyAuktion: Ablauf Artikel Nr. 958077 Don&#39;s gerösteter Espresso Bohnenkaffee 1000g
URL;VALUE=URI:https://www.myauktion.com/versteigerung7668-position2445126-don-39s-geroesteter-espresso-bohnenkaffee-1000g.php
DESCRIPTION:MHD 30.09.2027 
UID:myauktion-7668-2445126
BEGIN:VALARM
ACTION:DISPLAY
DESCRIPTION:MHD 30.09.2027 
TRIGGER:-PT10M
END:VALARM
END:VEVENT
END:VCALENDAR