BEGIN:VCALENDAR
VERSION:2.0
PRODID:-//Goldgrube//myauktion.com//AT
CALSCALE:GREGORIAN
BEGIN:VEVENT
DTSTART:20260508T145300
DTEND:20260508T145330
LOCATION:Gewerbepark 13, 8562 Mooskirchen
DTSTAMP:20260424T222208
SUMMARY:MyAuktion: Ablauf Artikel Nr. 958087 Jacobs Kaffeeweißer 1kg 
URL;VALUE=URI:https://www.myauktion.com/versteigerung7668-position2445137-jacobs-kaffeeweisser-1kg.php
DESCRIPTION:MHD 10.03.2027 
UID:myauktion-7668-2445137
BEGIN:VALARM
ACTION:DISPLAY
DESCRIPTION:MHD 10.03.2027 
TRIGGER:-PT10M
END:VALARM
END:VEVENT
END:VCALENDAR