BEGIN:VCALENDAR
VERSION:2.0
PRODID:-//Goldgrube//myauktion.com//AT
CALSCALE:GREGORIAN
BEGIN:VEVENT
DTSTART:20260508T154400
DTEND:20260508T154430
LOCATION:Gewerbepark 13, 8562 Mooskirchen
DTSTAMP:20260424T150436
SUMMARY:MyAuktion: Ablauf Artikel Nr. 958438 Alpenröstung Das Original Unbound Kaffeebohnen je 1000g
URL;VALUE=URI:https://www.myauktion.com/versteigerung7668-position2445141-alpenroestung-das-original-unbound-kaffeebohnen-je-1000g.php
DESCRIPTION:MHD: 13.10.2026
UID:myauktion-7668-2445141
BEGIN:VALARM
ACTION:DISPLAY
DESCRIPTION:MHD: 13.10.2026
TRIGGER:-PT10M
END:VALARM
END:VEVENT
END:VCALENDAR