BEGIN:VCALENDAR
VERSION:2.0
PRODID:-//Goldgrube//myauktion.com//AT
CALSCALE:GREGORIAN
BEGIN:VEVENT
DTSTART:20260508T145800
DTEND:20260508T145830
LOCATION:Gewerbepark 13, 8562 Mooskirchen
DTSTAMP:20260424T160254
SUMMARY:MyAuktion: Ablauf Artikel Nr. 958101 Teekanne Bio Früchte Auslese 10x20
URL;VALUE=URI:https://www.myauktion.com/versteigerung7668-position2445146-teekanne-bio-fruechte-auslese-10x20.php
DESCRIPTION:MHD 26.08.2027 
UID:myauktion-7668-2445146
BEGIN:VALARM
ACTION:DISPLAY
DESCRIPTION:MHD 26.08.2027 
TRIGGER:-PT10M
END:VALARM
END:VEVENT
END:VCALENDAR