BEGIN:VCALENDAR
VERSION:2.0
PRODID:-//Goldgrube//myauktion.com//AT
CALSCALE:GREGORIAN
BEGIN:VEVENT
DTSTART:20260508T150700
DTEND:20260508T150730
LOCATION:Gewerbepark 13, 8562 Mooskirchen
DTSTAMP:20260424T222210
SUMMARY:MyAuktion: Ablauf Artikel Nr. 958102 Teekanne Kamille 10x20
URL;VALUE=URI:https://www.myauktion.com/versteigerung7668-position2445150-teekanne-kamille-10x20.php
DESCRIPTION:MHD 26.05.2027 
UID:myauktion-7668-2445150
BEGIN:VALARM
ACTION:DISPLAY
DESCRIPTION:MHD 26.05.2027 
TRIGGER:-PT10M
END:VALARM
END:VEVENT
END:VCALENDAR