BEGIN:VCALENDAR
VERSION:2.0
PRODID:-//Goldgrube//myauktion.com//AT
CALSCALE:GREGORIAN
BEGIN:VEVENT
DTSTART:20260508T135300
DTEND:20260508T135330
LOCATION:Gewerbepark 13, 8562 Mooskirchen
DTSTAMP:20260424T135656
SUMMARY:MyAuktion: Ablauf Artikel Nr. 957946 Blue mussels in Spicy Sauce
URL;VALUE=URI:https://www.myauktion.com/versteigerung7668-position2445171-blue-mussels-in-spicy-sauce.php
DESCRIPTION:MHD: Ende 2030
UID:myauktion-7668-2445171
BEGIN:VALARM
ACTION:DISPLAY
DESCRIPTION:MHD: Ende 2030
TRIGGER:-PT10M
END:VALARM
END:VEVENT
END:VCALENDAR