BEGIN:VCALENDAR
VERSION:2.0
PRODID:-//Goldgrube//myauktion.com//AT
CALSCALE:GREGORIAN
BEGIN:VEVENT
DTSTART:20260508T155400
DTEND:20260508T155430
LOCATION:Gewerbepark 13, 8562 Mooskirchen
DTSTAMP:20260424T160246
SUMMARY:MyAuktion: Ablauf Artikel Nr. 958441 Sidroga Orangenblütentee mit 20 Filterbeutel 
URL;VALUE=URI:https://www.myauktion.com/versteigerung7668-position2445184-sidroga-orangenbluetentee-mit-20-filterbeutel.php
DESCRIPTION:MHD: 05/2026
UID:myauktion-7668-2445184
BEGIN:VALARM
ACTION:DISPLAY
DESCRIPTION:MHD: 05/2026
TRIGGER:-PT10M
END:VALARM
END:VEVENT
END:VCALENDAR