BEGIN:VCALENDAR
VERSION:2.0
PRODID:-//Goldgrube//myauktion.com//AT
CALSCALE:GREGORIAN
BEGIN:VEVENT
DTSTART:20260509T130200
DTEND:20260509T130230
LOCATION:Gewerbepark 13, 8562 Mooskirchen
DTSTAMP:20260425T143133
SUMMARY:MyAuktion: Ablauf Artikel Nr. 443743 Rosenholzstäbchen für Maniküre & Pediküre 5 Packungen
URL;VALUE=URI:https://www.myauktion.com/versteigerung7669-position2445274-rosenholzstaebchen-fuer-manikuere-38-pedikuere-5-packungen.php
DESCRIPTION:
UID:myauktion-7669-2445274
BEGIN:VALARM
ACTION:DISPLAY
DESCRIPTION:
TRIGGER:-PT10M
END:VALARM
END:VEVENT
END:VCALENDAR