BEGIN:VCALENDAR
VERSION:2.0
PRODID:-//Goldgrube//myauktion.com//AT
CALSCALE:GREGORIAN
BEGIN:VEVENT
DTSTART:20260509T130400
DTEND:20260509T130430
LOCATION:Gewerbepark 13, 8562 Mooskirchen
DTSTAMP:20260425T143127
SUMMARY:MyAuktion: Ablauf Artikel Nr. 443745 XEIJAYI Nail Phototherapy Poly Gel #07-Pink-Weiß 150g 
URL;VALUE=URI:https://www.myauktion.com/versteigerung7669-position2445276-xeijayi-nail-phototherapy-poly-gel-07-pink-weiss-150g.php
DESCRIPTION:
UID:myauktion-7669-2445276
BEGIN:VALARM
ACTION:DISPLAY
DESCRIPTION:
TRIGGER:-PT10M
END:VALARM
END:VEVENT
END:VCALENDAR