BEGIN:VCALENDAR
VERSION:2.0
PRODID:-//Goldgrube//myauktion.com//AT
CALSCALE:GREGORIAN
BEGIN:VEVENT
DTSTART:20260509T130500
DTEND:20260509T130530
LOCATION:Gewerbepark 13, 8562 Mooskirchen
DTSTAMP:20260425T143126
SUMMARY:MyAuktion: Ablauf Artikel Nr. 443746 XEIJAYI Nail Phototherapy Poly Gel #06-Nude 150g 
URL;VALUE=URI:https://www.myauktion.com/versteigerung7669-position2445277-xeijayi-nail-phototherapy-poly-gel-06-nude-150g.php
DESCRIPTION:
UID:myauktion-7669-2445277
BEGIN:VALARM
ACTION:DISPLAY
DESCRIPTION:
TRIGGER:-PT10M
END:VALARM
END:VEVENT
END:VCALENDAR