BEGIN:VCALENDAR
VERSION:2.0
PRODID:-//Goldgrube//myauktion.com//AT
CALSCALE:GREGORIAN
BEGIN:VEVENT
DTSTART:20260509T130600
DTEND:20260509T130630
LOCATION:Gewerbepark 13, 8562 Mooskirchen
DTSTAMP:20260425T143125
SUMMARY:MyAuktion: Ablauf Artikel Nr. 443747 XEIJAYI Nail Phototherapy Poly Gel #04-Leichtes Pink 150g 
URL;VALUE=URI:https://www.myauktion.com/versteigerung7669-position2445278-xeijayi-nail-phototherapy-poly-gel-04-leichtes-pink-150g.php
DESCRIPTION:
UID:myauktion-7669-2445278
BEGIN:VALARM
ACTION:DISPLAY
DESCRIPTION:
TRIGGER:-PT10M
END:VALARM
END:VEVENT
END:VCALENDAR