BEGIN:VCALENDAR
VERSION:2.0
PRODID:-//Goldgrube//myauktion.com//AT
CALSCALE:GREGORIAN
BEGIN:VEVENT
DTSTART:20260509T170500
DTEND:20260509T170530
LOCATION:Gewerbepark 13, 8562 Mooskirchen
DTSTAMP:20260425T143131
SUMMARY:MyAuktion: Ablauf Artikel Nr. 958420 Nagelfeilen-Set 50Stück, Körnung 180/240 
URL;VALUE=URI:https://www.myauktion.com/versteigerung7669-position2445280-nagelfeilen-set-50stueck-koernung-180-240.php
DESCRIPTION:
UID:myauktion-7669-2445280
BEGIN:VALARM
ACTION:DISPLAY
DESCRIPTION:
TRIGGER:-PT10M
END:VALARM
END:VEVENT
END:VCALENDAR