BEGIN:VCALENDAR
VERSION:2.0
PRODID:-//Goldgrube//myauktion.com//AT
CALSCALE:GREGORIAN
BEGIN:VEVENT
DTSTART:20260509T170700
DTEND:20260509T170730
LOCATION:Gewerbepark 13, 8562 Mooskirchen
DTSTAMP:20260425T143128
SUMMARY:MyAuktion: Ablauf Artikel Nr. 958422 Touchland Power Mist Feuchtigkeitsspendendes Händedesinfektionsmittel Set 6-Teilig
URL;VALUE=URI:https://www.myauktion.com/versteigerung7669-position2445282-touchland-power-mist-feuchtigkeitsspendendes-haendedesinfektionsmittel-set-6-teilig.php
DESCRIPTION:
UID:myauktion-7669-2445282
BEGIN:VALARM
ACTION:DISPLAY
DESCRIPTION:
TRIGGER:-PT10M
END:VALARM
END:VEVENT
END:VCALENDAR