BEGIN:VCALENDAR
VERSION:2.0
PRODID:-//Goldgrube//myauktion.com//AT
CALSCALE:GREGORIAN
BEGIN:VEVENT
DTSTART:20260509T171400
DTEND:20260509T171430
LOCATION:Gewerbepark 13, 8562 Mooskirchen
DTSTAMP:20260425T143132
SUMMARY:MyAuktion: Ablauf Artikel Nr. 958426 dreieckige Puderquaste 10er Set
URL;VALUE=URI:https://www.myauktion.com/versteigerung7669-position2445293-dreieckige-puderquaste-10er-set.php
DESCRIPTION:
UID:myauktion-7669-2445293
BEGIN:VALARM
ACTION:DISPLAY
DESCRIPTION:
TRIGGER:-PT10M
END:VALARM
END:VEVENT
END:VCALENDAR