BEGIN:VCALENDAR
VERSION:2.0
PRODID:-//Goldgrube//myauktion.com//AT
CALSCALE:GREGORIAN
BEGIN:VEVENT
DTSTART:20260509T142200
DTEND:20260509T142230
LOCATION:Gewerbepark 13, 8562 Mooskirchen
DTSTAMP:20260425T143129
SUMMARY:MyAuktion: Ablauf Artikel Nr. 958086 Hygiene Vos Profi-Klar Glasreiniger 10L 
URL;VALUE=URI:https://www.myauktion.com/versteigerung7669-position2445296-hygiene-vos-profi-klar-glasreiniger-10l.php
DESCRIPTION:
UID:myauktion-7669-2445296
BEGIN:VALARM
ACTION:DISPLAY
DESCRIPTION:
TRIGGER:-PT10M
END:VALARM
END:VEVENT
END:VCALENDAR