BEGIN:VCALENDAR
VERSION:2.0
PRODID:-//Goldgrube//myauktion.com//AT
CALSCALE:GREGORIAN
BEGIN:VEVENT
DTSTART:20260509T171800
DTEND:20260509T171830
LOCATION:Gewerbepark 13, 8562 Mooskirchen
DTSTAMP:20260425T143127
SUMMARY:MyAuktion: Ablauf Artikel Nr. 958430 Diverse PocketBac Reinigungsgel für die Hände, je 29ml
URL;VALUE=URI:https://www.myauktion.com/versteigerung7669-position2445302-diverse-pocketbac-reinigungsgel-fuer-die-haende-je-29ml.php
DESCRIPTION:
UID:myauktion-7669-2445302
BEGIN:VALARM
ACTION:DISPLAY
DESCRIPTION:
TRIGGER:-PT10M
END:VALARM
END:VEVENT
END:VCALENDAR