BEGIN:VCALENDAR
VERSION:2.0
PRODID:-//Goldgrube//myauktion.com//AT
CALSCALE:GREGORIAN
BEGIN:VEVENT
DTSTART:20260509T172100
DTEND:20260509T172130
LOCATION:Gewerbepark 13, 8562 Mooskirchen
DTSTAMP:20260425T143128
SUMMARY:MyAuktion: Ablauf Artikel Nr. 958433 Hawaiian Tropic Mineral Sun Protection Powder SPF 30, 4,25 g
URL;VALUE=URI:https://www.myauktion.com/versteigerung7669-position2445306-hawaiian-tropic-mineral-sun-protection-powder-spf-30-425-g.php
DESCRIPTION:
UID:myauktion-7669-2445306
BEGIN:VALARM
ACTION:DISPLAY
DESCRIPTION:
TRIGGER:-PT10M
END:VALARM
END:VEVENT
END:VCALENDAR