BEGIN:VCALENDAR
VERSION:2.0
PRODID:-//Goldgrube//myauktion.com//AT
CALSCALE:GREGORIAN
BEGIN:VEVENT
DTSTART:20260509T172300
DTEND:20260509T172330
LOCATION:Gewerbepark 13, 8562 Mooskirchen
DTSTAMP:20260425T143127
SUMMARY:MyAuktion: Ablauf Artikel Nr. 958435 Bath & Body Works Waikiki Beach Coconut Fine Fragrance Mist 236ml
URL;VALUE=URI:https://www.myauktion.com/versteigerung7669-position2445310-bath-38-body-works-waikiki-beach-coconut-fine-fragrance-mist-236ml.php
DESCRIPTION:
UID:myauktion-7669-2445310
BEGIN:VALARM
ACTION:DISPLAY
DESCRIPTION:
TRIGGER:-PT10M
END:VALARM
END:VEVENT
END:VCALENDAR