BEGIN:VCALENDAR
VERSION:2.0
PRODID:-//Goldgrube//myauktion.com//AT
CALSCALE:GREGORIAN
BEGIN:VEVENT
DTSTART:20260509T172400
DTEND:20260509T172430
LOCATION:Gewerbepark 13, 8562 Mooskirchen
DTSTAMP:20260425T143125
SUMMARY:MyAuktion: Ablauf Artikel Nr. 958436 Rituals The Ritual of Ayurveda Foaming Shower Gel 200ml
URL;VALUE=URI:https://www.myauktion.com/versteigerung7669-position2445311-rituals-the-ritual-of-ayurveda-foaming-shower-gel-200ml.php
DESCRIPTION:
UID:myauktion-7669-2445311
BEGIN:VALARM
ACTION:DISPLAY
DESCRIPTION:
TRIGGER:-PT10M
END:VALARM
END:VEVENT
END:VCALENDAR