BEGIN:VCALENDAR
VERSION:2.0
PRODID:-//Goldgrube//myauktion.com//AT
CALSCALE:GREGORIAN
BEGIN:VEVENT
DTSTART:20260509T144700
DTEND:20260509T144730
LOCATION:Gewerbepark 13, 8562 Mooskirchen
DTSTAMP:20260425T143130
SUMMARY:MyAuktion: Ablauf Artikel Nr. 958095 Mervitamed Duschgel Granatapfel je 250ml 
URL;VALUE=URI:https://www.myauktion.com/versteigerung7669-position2445313-mervitamed-duschgel-granatapfel-je-250ml.php
DESCRIPTION:
UID:myauktion-7669-2445313
BEGIN:VALARM
ACTION:DISPLAY
DESCRIPTION:
TRIGGER:-PT10M
END:VALARM
END:VEVENT
END:VCALENDAR