BEGIN:VCALENDAR
VERSION:2.0
PRODID:-//Goldgrube//myauktion.com//AT
CALSCALE:GREGORIAN
BEGIN:VEVENT
DTSTART:20260509T132900
DTEND:20260509T132930
LOCATION:Gewerbepark 13, 8562 Mooskirchen
DTSTAMP:20260425T143132
SUMMARY:MyAuktion: Ablauf Artikel Nr. 957948 Krepppapierbinde-BSN 20Stk 8x4m
URL;VALUE=URI:https://www.myauktion.com/versteigerung7669-position2445321-krepppapierbinde-bsn-20stk-8x4m.php
DESCRIPTION: 
UID:myauktion-7669-2445321
BEGIN:VALARM
ACTION:DISPLAY
DESCRIPTION: 
TRIGGER:-PT10M
END:VALARM
END:VEVENT
END:VCALENDAR