BEGIN:VCALENDAR
VERSION:2.0
PRODID:-//Goldgrube//myauktion.com//AT
CALSCALE:GREGORIAN
BEGIN:VEVENT
DTSTART:20260509T150100
DTEND:20260509T150130
LOCATION:Gewerbepark 13, 8562 Mooskirchen
DTSTAMP:20260425T143126
SUMMARY:MyAuktion: Ablauf Artikel Nr. 958128 Sterilium Gel pure Hände Desinfektionsgel je 1000ml 
URL;VALUE=URI:https://www.myauktion.com/versteigerung7669-position2445328-sterilium-gel-pure-haende-desinfektionsgel-je-1000ml.php
DESCRIPTION:MHD 10.2029 
UID:myauktion-7669-2445328
BEGIN:VALARM
ACTION:DISPLAY
DESCRIPTION:MHD 10.2029 
TRIGGER:-PT10M
END:VALARM
END:VEVENT
END:VCALENDAR