BEGIN:VCALENDAR
VERSION:2.0
PRODID:-//Goldgrube//myauktion.com//AT
CALSCALE:GREGORIAN
BEGIN:VEVENT
DTSTART:20260509T151100
DTEND:20260509T151130
LOCATION:Gewerbepark 13, 8562 Mooskirchen
DTSTAMP:20260425T143133
SUMMARY:MyAuktion: Ablauf Artikel Nr. 958131 Tapira Pur Spülmaschinen Tabs 60x18g 
URL;VALUE=URI:https://www.myauktion.com/versteigerung7669-position2445331-tapira-pur-spuelmaschinen-tabs-60x18g.php
DESCRIPTION:
UID:myauktion-7669-2445331
BEGIN:VALARM
ACTION:DISPLAY
DESCRIPTION:
TRIGGER:-PT10M
END:VALARM
END:VEVENT
END:VCALENDAR