BEGIN:VCALENDAR
VERSION:2.0
PRODID:-//Goldgrube//myauktion.com//AT
CALSCALE:GREGORIAN
BEGIN:VEVENT
DTSTART:20260509T151500
DTEND:20260509T151530
LOCATION:Gewerbepark 13, 8562 Mooskirchen
DTSTAMP:20260425T143130
SUMMARY:MyAuktion: Ablauf Artikel Nr. 958135 Anua Heartleaf 80 Moisture Soothing Ampoule 80% 30ml 
URL;VALUE=URI:https://www.myauktion.com/versteigerung7669-position2445337-anua-heartleaf-80-moisture-soothing-ampoule-80-30ml.php
DESCRIPTION:MHD 10.04.2027 
UID:myauktion-7669-2445337
BEGIN:VALARM
ACTION:DISPLAY
DESCRIPTION:MHD 10.04.2027 
TRIGGER:-PT10M
END:VALARM
END:VEVENT
END:VCALENDAR