BEGIN:VCALENDAR
VERSION:2.0
PRODID:-//Goldgrube//myauktion.com//AT
CALSCALE:GREGORIAN
BEGIN:VEVENT
DTSTART:20260509T153200
DTEND:20260509T153230
LOCATION:Gewerbepark 13, 8562 Mooskirchen
DTSTAMP:20260425T143129
SUMMARY:MyAuktion: Ablauf Artikel Nr. 958146 Allgäuer Latschen Kiefer Hornhaut Reduziercreme 100ml 
URL;VALUE=URI:https://www.myauktion.com/versteigerung7669-position2445348-allgaeuer-latschen-kiefer-hornhaut-reduziercreme-100ml.php
DESCRIPTION:
UID:myauktion-7669-2445348
BEGIN:VALARM
ACTION:DISPLAY
DESCRIPTION:
TRIGGER:-PT10M
END:VALARM
END:VEVENT
END:VCALENDAR