BEGIN:VCALENDAR
VERSION:2.0
PRODID:-//Goldgrube//myauktion.com//AT
CALSCALE:GREGORIAN
BEGIN:VEVENT
DTSTART:20260509T153600
DTEND:20260509T153630
LOCATION:Gewerbepark 13, 8562 Mooskirchen
DTSTAMP:20260425T143130
SUMMARY:MyAuktion: Ablauf Artikel Nr. 958150 Rituals of Sakura foaming shower gel 200ml 
URL;VALUE=URI:https://www.myauktion.com/versteigerung7669-position2445352-rituals-of-sakura-foaming-shower-gel-200ml.php
DESCRIPTION:
UID:myauktion-7669-2445352
BEGIN:VALARM
ACTION:DISPLAY
DESCRIPTION:
TRIGGER:-PT10M
END:VALARM
END:VEVENT
END:VCALENDAR