BEGIN:VCALENDAR
VERSION:2.0
PRODID:-//Goldgrube//myauktion.com//AT
CALSCALE:GREGORIAN
BEGIN:VEVENT
DTSTART:20260509T154600
DTEND:20260509T154630
LOCATION:Gewerbepark 13, 8562 Mooskirchen
DTSTAMP:20260425T143124
SUMMARY:MyAuktion: Ablauf Artikel Nr. 958159 Dr. Reckeweg Haemorrhoid Gastreu N R16 50mlml 
URL;VALUE=URI:https://www.myauktion.com/versteigerung7669-position2445364-dr-reckeweg-haemorrhoid-gastreu-n-r16-50mlml.php
DESCRIPTION:MHD 02.2030 
UID:myauktion-7669-2445364
BEGIN:VALARM
ACTION:DISPLAY
DESCRIPTION:MHD 02.2030 
TRIGGER:-PT10M
END:VALARM
END:VEVENT
END:VCALENDAR