BEGIN:VCALENDAR
VERSION:2.0
PRODID:-//Goldgrube//myauktion.com//AT
CALSCALE:GREGORIAN
BEGIN:VEVENT
DTSTART:20260509T154800
DTEND:20260509T154830
LOCATION:Gewerbepark 13, 8562 Mooskirchen
DTSTAMP:20260425T143132
SUMMARY:MyAuktion: Ablauf Artikel Nr. 958161 Dr. Reckeweg Angina Gastreu S R1 50ml
URL;VALUE=URI:https://www.myauktion.com/versteigerung7669-position2445366-dr-reckeweg-angina-gastreu-s-r1-50ml.php
DESCRIPTION:MHD 06.2028 
UID:myauktion-7669-2445366
BEGIN:VALARM
ACTION:DISPLAY
DESCRIPTION:MHD 06.2028 
TRIGGER:-PT10M
END:VALARM
END:VEVENT
END:VCALENDAR