BEGIN:VCALENDAR
VERSION:2.0
PRODID:-//Goldgrube//myauktion.com//AT
CALSCALE:GREGORIAN
BEGIN:VEVENT
DTSTART:20260509T135500
DTEND:20260509T135530
LOCATION:Gewerbepark 13, 8562 Mooskirchen
DTSTAMP:20260425T143126
SUMMARY:MyAuktion: Ablauf Artikel Nr. 957960 Alpienne Kraft der Alpen Johanniskraut Massagemilch 400ml  
URL;VALUE=URI:https://www.myauktion.com/versteigerung7669-position2445382-alpienne-kraft-der-alpen-johanniskraut-massagemilch-400ml.php
DESCRIPTION:
UID:myauktion-7669-2445382
BEGIN:VALARM
ACTION:DISPLAY
DESCRIPTION:
TRIGGER:-PT10M
END:VALARM
END:VEVENT
END:VCALENDAR