BEGIN:VCALENDAR
VERSION:2.0
PRODID:-//Goldgrube//myauktion.com//AT
CALSCALE:GREGORIAN
BEGIN:VEVENT
DTSTART:20260509T161100
DTEND:20260509T161130
LOCATION:Gewerbepark 13, 8562 Mooskirchen
DTSTAMP:20260425T143131
SUMMARY:MyAuktion: Ablauf Artikel Nr. 958178 Nida Youthful Formula Ultimate Moisturizing cream 100ml 
URL;VALUE=URI:https://www.myauktion.com/versteigerung7669-position2445397-nida-youthful-formula-ultimate-moisturizing-cream-100ml.php
DESCRIPTION:MHD 14.01.2028 
UID:myauktion-7669-2445397
BEGIN:VALARM
ACTION:DISPLAY
DESCRIPTION:MHD 14.01.2028 
TRIGGER:-PT10M
END:VALARM
END:VEVENT
END:VCALENDAR