BEGIN:VCALENDAR
VERSION:2.0
PRODID:-//Goldgrube//myauktion.com//AT
CALSCALE:GREGORIAN
BEGIN:VEVENT
DTSTART:20260509T161400
DTEND:20260509T161430
LOCATION:Gewerbepark 13, 8562 Mooskirchen
DTSTAMP:20260425T143127
SUMMARY:MyAuktion: Ablauf Artikel Nr. 958181 Arrivacell Intensiv Pflegebalsam Apricot Line 50ml 
URL;VALUE=URI:https://www.myauktion.com/versteigerung7669-position2445402-arrivacell-intensiv-pflegebalsam-apricot-line-50ml.php
DESCRIPTION:
UID:myauktion-7669-2445402
BEGIN:VALARM
ACTION:DISPLAY
DESCRIPTION:
TRIGGER:-PT10M
END:VALARM
END:VEVENT
END:VCALENDAR