BEGIN:VCALENDAR
VERSION:2.0
PRODID:-//Goldgrube//myauktion.com//AT
CALSCALE:GREGORIAN
BEGIN:VEVENT
DTSTART:20260509T161500
DTEND:20260509T161530
LOCATION:Gewerbepark 13, 8562 Mooskirchen
DTSTAMP:20260425T143130
SUMMARY:MyAuktion: Ablauf Artikel Nr. 958182 Active Spray Food Supplement with sweetener 30ml 
URL;VALUE=URI:https://www.myauktion.com/versteigerung7669-position2445404-active-spray-food-supplement-with-sweetener-30ml.php
DESCRIPTION:MHD 30.09.2027 
UID:myauktion-7669-2445404
BEGIN:VALARM
ACTION:DISPLAY
DESCRIPTION:MHD 30.09.2027 
TRIGGER:-PT10M
END:VALARM
END:VEVENT
END:VCALENDAR