BEGIN:VCALENDAR
VERSION:2.0
PRODID:-//Goldgrube//myauktion.com//AT
CALSCALE:GREGORIAN
BEGIN:VEVENT
DTSTART:20260509T131700
DTEND:20260509T131730
LOCATION:Gewerbepark 13, 8562 Mooskirchen
DTSTAMP:20260425T143126
SUMMARY:MyAuktion: Ablauf Artikel Nr. 957690 Frosch Baby Waschpulver 2x 1.452kg 
URL;VALUE=URI:https://www.myauktion.com/versteigerung7669-position2445408-frosch-baby-waschpulver-2x-1452kg.php
DESCRIPTION:
UID:myauktion-7669-2445408
BEGIN:VALARM
ACTION:DISPLAY
DESCRIPTION:
TRIGGER:-PT10M
END:VALARM
END:VEVENT
END:VCALENDAR