BEGIN:VCALENDAR
VERSION:2.0
PRODID:-//Goldgrube//myauktion.com//AT
CALSCALE:GREGORIAN
BEGIN:VEVENT
DTSTART:20260509T161600
DTEND:20260509T161630
LOCATION:Gewerbepark 13, 8562 Mooskirchen
DTSTAMP:20260425T143122
SUMMARY:MyAuktion: Ablauf Artikel Nr. 958183 Hudabeauty Faux Filler extra shine lip gloss 3,9ml 
URL;VALUE=URI:https://www.myauktion.com/versteigerung7669-position2445414-hudabeauty-faux-filler-extra-shine-lip-gloss-39ml.php
DESCRIPTION:She glitzy 
UID:myauktion-7669-2445414
BEGIN:VALARM
ACTION:DISPLAY
DESCRIPTION:She glitzy 
TRIGGER:-PT10M
END:VALARM
END:VEVENT
END:VCALENDAR