BEGIN:VCALENDAR
VERSION:2.0
PRODID:-//Goldgrube//myauktion.com//AT
CALSCALE:GREGORIAN
BEGIN:VEVENT
DTSTART:20260509T161900
DTEND:20260509T161930
LOCATION:Gewerbepark 13, 8562 Mooskirchen
DTSTAMP:20260425T143124
SUMMARY:MyAuktion: Ablauf Artikel Nr. 958186 Beauty of Joseon Glow Replenishing Rice milk 150ml 
URL;VALUE=URI:https://www.myauktion.com/versteigerung7669-position2445420-beauty-of-joseon-glow-replenishing-rice-milk-150ml.php
DESCRIPTION:MHD 21.01.2028 
UID:myauktion-7669-2445420
BEGIN:VALARM
ACTION:DISPLAY
DESCRIPTION:MHD 21.01.2028 
TRIGGER:-PT10M
END:VALARM
END:VEVENT
END:VCALENDAR