BEGIN:VCALENDAR
VERSION:2.0
PRODID:-//Goldgrube//myauktion.com//AT
CALSCALE:GREGORIAN
BEGIN:VEVENT
DTSTART:20260509T162500
DTEND:20260509T162530
LOCATION:Gewerbepark 13, 8562 Mooskirchen
DTSTAMP:20260425T143124
SUMMARY:MyAuktion: Ablauf Artikel Nr. 958192 Beauty of Joseon Relief Sun Aqua-fresh Rice + B5 SPF50+ 50ml 
URL;VALUE=URI:https://www.myauktion.com/versteigerung7669-position2445432-beauty-of-joseon-relief-sun-aqua-fresh-rice-b5-spf50-50ml.php
DESCRIPTION:MHD 23.02.2028 
UID:myauktion-7669-2445432
BEGIN:VALARM
ACTION:DISPLAY
DESCRIPTION:MHD 23.02.2028 
TRIGGER:-PT10M
END:VALARM
END:VEVENT
END:VCALENDAR