BEGIN:VCALENDAR
VERSION:2.0
PRODID:-//Goldgrube//myauktion.com//AT
CALSCALE:GREGORIAN
BEGIN:VEVENT
DTSTART:20260509T173900
DTEND:20260509T173930
LOCATION:Gewerbepark 13, 8562 Mooskirchen
DTSTAMP:20260425T143124
SUMMARY:MyAuktion: Ablauf Artikel Nr. 958481 DenkMit Wäsche Hygienespüler diverse Sorten je 1,5L
URL;VALUE=URI:https://www.myauktion.com/versteigerung7669-position2445434-denkmit-waesche-hygienespueler-diverse-sorten-je-15l.php
DESCRIPTION:
UID:myauktion-7669-2445434
BEGIN:VALARM
ACTION:DISPLAY
DESCRIPTION:
TRIGGER:-PT10M
END:VALARM
END:VEVENT
END:VCALENDAR