BEGIN:VCALENDAR
VERSION:2.0
PRODID:-//Goldgrube//myauktion.com//AT
CALSCALE:GREGORIAN
BEGIN:VEVENT
DTSTART:20260509T163700
DTEND:20260509T163730
LOCATION:Gewerbepark 13, 8562 Mooskirchen
DTSTAMP:20260425T143128
SUMMARY:MyAuktion: Ablauf Artikel Nr. 958201 Laneige Water Bank Blue Hyaluronic Cream Moisturizer 10ml 
URL;VALUE=URI:https://www.myauktion.com/versteigerung7669-position2445447-laneige-water-bank-blue-hyaluronic-cream-moisturizer-10ml.php
DESCRIPTION:
UID:myauktion-7669-2445447
BEGIN:VALARM
ACTION:DISPLAY
DESCRIPTION:
TRIGGER:-PT10M
END:VALARM
END:VEVENT
END:VCALENDAR