BEGIN:VCALENDAR
VERSION:2.0
PRODID:-//Goldgrube//myauktion.com//AT
CALSCALE:GREGORIAN
BEGIN:VEVENT
DTSTART:20260509T170300
DTEND:20260509T170330
LOCATION:Gewerbepark 13, 8562 Mooskirchen
DTSTAMP:20260425T143130
SUMMARY:MyAuktion: Ablauf Artikel Nr. 958419 Nagelfeilen-Set 50Stück, Körnung 100/180 
URL;VALUE=URI:https://www.myauktion.com/versteigerung7669-position2445472-nagelfeilen-set-50stueck-koernung-100-180.php
DESCRIPTION:
UID:myauktion-7669-2445472
BEGIN:VALARM
ACTION:DISPLAY
DESCRIPTION:
TRIGGER:-PT10M
END:VALARM
END:VEVENT
END:VCALENDAR