BEGIN:VCALENDAR
VERSION:2.0
PRODID:-//Goldgrube//myauktion.com//AT
CALSCALE:GREGORIAN
BEGIN:VEVENT
DTSTART:20260509T144800
DTEND:20260509T144830
LOCATION:Gewerbepark 13, 8562 Mooskirchen
DTSTAMP:20260425T143131
SUMMARY:MyAuktion: Ablauf Artikel Nr. 958095 Mervitamed Duschgel Granatapfel je 250ml 
URL;VALUE=URI:https://www.myauktion.com/versteigerung7669-position2445481-mervitamed-duschgel-granatapfel-je-250ml.php
DESCRIPTION:
UID:myauktion-7669-2445481
BEGIN:VALARM
ACTION:DISPLAY
DESCRIPTION:
TRIGGER:-PT10M
END:VALARM
END:VEVENT
END:VCALENDAR