BEGIN:VCALENDAR
VERSION:2.0
PRODID:-//Goldgrube//myauktion.com//AT
CALSCALE:GREGORIAN
BEGIN:VEVENT
DTSTART:20260509T133400
DTEND:20260509T133430
LOCATION:Gewerbepark 13, 8562 Mooskirchen
DTSTAMP:20260425T143130
SUMMARY:MyAuktion: Ablauf Artikel Nr. 957950 OliPhenolia Gesichtscreme 50ml 
URL;VALUE=URI:https://www.myauktion.com/versteigerung7669-position2445484-oliphenolia-gesichtscreme-50ml.php
DESCRIPTION:
UID:myauktion-7669-2445484
BEGIN:VALARM
ACTION:DISPLAY
DESCRIPTION:
TRIGGER:-PT10M
END:VALARM
END:VEVENT
END:VCALENDAR