BEGIN:VCALENDAR
VERSION:2.0
PRODID:-//Goldgrube//myauktion.com//AT
CALSCALE:GREGORIAN
BEGIN:VEVENT
DTSTART:20260509T134000
DTEND:20260509T134030
LOCATION:Gewerbepark 13, 8562 Mooskirchen
DTSTAMP:20260425T143130
SUMMARY:MyAuktion: Ablauf Artikel Nr. 957953 Pelpharma PelGel Rückfettendes Duschgel 500ml 
URL;VALUE=URI:https://www.myauktion.com/versteigerung7669-position2445486-pelpharma-pelgel-rueckfettendes-duschgel-500ml.php
DESCRIPTION:<div>MHD: 03/29</div>
UID:myauktion-7669-2445486
BEGIN:VALARM
ACTION:DISPLAY
DESCRIPTION:<div>MHD: 03/29</div>
TRIGGER:-PT10M
END:VALARM
END:VEVENT
END:VCALENDAR