BEGIN:VCALENDAR
VERSION:2.0
PRODID:-//Goldgrube//myauktion.com//AT
CALSCALE:GREGORIAN
BEGIN:VEVENT
DTSTART:20260509T150400
DTEND:20260509T150430
LOCATION:Gewerbepark 13, 8562 Mooskirchen
DTSTAMP:20260425T143131
SUMMARY:MyAuktion: Ablauf Artikel Nr. 958129 Sterilium med Hände Desinfektionsmittel je 1000ml
URL;VALUE=URI:https://www.myauktion.com/versteigerung7669-position2445488-sterilium-med-haende-desinfektionsmittel-je-1000ml.php
DESCRIPTION:MHD 08.2030 
UID:myauktion-7669-2445488
BEGIN:VALARM
ACTION:DISPLAY
DESCRIPTION:MHD 08.2030 
TRIGGER:-PT10M
END:VALARM
END:VEVENT
END:VCALENDAR