BEGIN:VCALENDAR
VERSION:2.0
PRODID:-//Goldgrube//myauktion.com//AT
CALSCALE:GREGORIAN
BEGIN:VEVENT
DTSTART:20260509T152100
DTEND:20260509T152130
LOCATION:Gewerbepark 13, 8562 Mooskirchen
DTSTAMP:20260425T143123
SUMMARY:MyAuktion: Ablauf Artikel Nr. 958140 Mesoprotech melan 130 pigment control 50+ SPF All skin Types 50ml 
URL;VALUE=URI:https://www.myauktion.com/versteigerung7669-position2445493-mesoprotech-melan-130-pigment-control-50-spf-all-skin-types-50ml.php
DESCRIPTION:MHD 01.2030 
UID:myauktion-7669-2445493
BEGIN:VALARM
ACTION:DISPLAY
DESCRIPTION:MHD 01.2030 
TRIGGER:-PT10M
END:VALARM
END:VEVENT
END:VCALENDAR