BEGIN:VCALENDAR
VERSION:2.0
PRODID:-//Goldgrube//myauktion.com//AT
CALSCALE:GREGORIAN
BEGIN:VEVENT
DTSTART:20260508T090100
DTEND:20260508T090130
LOCATION:Gewerbepark 13, 8562 Mooskirchen
DTSTAMP:20260425T015253
SUMMARY:MyAuktion: Ablauf Artikel Nr. 957699 Prowin Alleskönner 500ml
URL;VALUE=URI:https://www.myauktion.com/versteigerung7671-position2445963-prowin-alleskoenner-500ml.php
DESCRIPTION:
UID:myauktion-7671-2445963
BEGIN:VALARM
ACTION:DISPLAY
DESCRIPTION:
TRIGGER:-PT10M
END:VALARM
END:VEVENT
END:VCALENDAR