BEGIN:VCALENDAR
VERSION:2.0
PRODID:-//Goldgrube//myauktion.com//AT
CALSCALE:GREGORIAN
BEGIN:VEVENT
DTSTART:20260508T103700
DTEND:20260508T103730
LOCATION:Gewerbepark 13, 8562 Mooskirchen
DTSTAMP:20260424T222211
SUMMARY:MyAuktion: Ablauf Artikel Nr. 957971 Dr. Schumacher Perfektan Endo 2l 
URL;VALUE=URI:https://www.myauktion.com/versteigerung7671-position2445964-dr-schumacher-perfektan-endo-2l.php
DESCRIPTION:
UID:myauktion-7671-2445964
BEGIN:VALARM
ACTION:DISPLAY
DESCRIPTION:
TRIGGER:-PT10M
END:VALARM
END:VEVENT
END:VCALENDAR