BEGIN:VCALENDAR
VERSION:2.0
PRODID:-//Goldgrube//myauktion.com//AT
CALSCALE:GREGORIAN
BEGIN:VEVENT
DTSTART:20260508T091700
DTEND:20260508T091730
LOCATION:Gewerbepark 13, 8562 Mooskirchen
DTSTAMP:20260425T015254
SUMMARY:MyAuktion: Ablauf Artikel Nr. 957701 Makra Sensi Fresh 1000ml 
URL;VALUE=URI:https://www.myauktion.com/versteigerung7671-position2445968-makra-sensi-fresh-1000ml.php
DESCRIPTION:
UID:myauktion-7671-2445968
BEGIN:VALARM
ACTION:DISPLAY
DESCRIPTION:
TRIGGER:-PT10M
END:VALARM
END:VEVENT
END:VCALENDAR