BEGIN:VCALENDAR
VERSION:2.0
PRODID:-//Goldgrube//myauktion.com//AT
CALSCALE:GREGORIAN
BEGIN:VEVENT
DTSTART:20260508T103900
DTEND:20260508T103930
LOCATION:Gewerbepark 13, 8562 Mooskirchen
DTSTAMP:20260425T015300
SUMMARY:MyAuktion: Ablauf Artikel Nr. 957973 Frosch Waschmittel Detergent 1,5l 
URL;VALUE=URI:https://www.myauktion.com/versteigerung7671-position2445972-frosch-waschmittel-detergent-15l.php
DESCRIPTION:
UID:myauktion-7671-2445972
BEGIN:VALARM
ACTION:DISPLAY
DESCRIPTION:
TRIGGER:-PT10M
END:VALARM
END:VEVENT
END:VCALENDAR